BEGIN:VCALENDAR
VERSION:2.0
PRODID:-//Sea Safaris Sailing School - ECPv6.15.20//NONSGML v1.0//EN
CALSCALE:GREGORIAN
METHOD:PUBLISH
X-WR-CALNAME:Sea Safaris Sailing School
X-ORIGINAL-URL:https://www.seasafarissailingschool.com
X-WR-CALDESC:Events for Sea Safaris Sailing School
REFRESH-INTERVAL;VALUE=DURATION:PT1H
X-Robots-Tag:noindex
X-PUBLISHED-TTL:PT1H
BEGIN:VTIMEZONE
TZID:America/New_York
BEGIN:DAYLIGHT
TZOFFSETFROM:-0500
TZOFFSETTO:-0400
TZNAME:EDT
DTSTART:20230312T070000
END:DAYLIGHT
BEGIN:STANDARD
TZOFFSETFROM:-0400
TZOFFSETTO:-0500
TZNAME:EST
DTSTART:20231105T060000
END:STANDARD
BEGIN:DAYLIGHT
TZOFFSETFROM:-0500
TZOFFSETTO:-0400
TZNAME:EDT
DTSTART:20240310T070000
END:DAYLIGHT
BEGIN:STANDARD
TZOFFSETFROM:-0400
TZOFFSETTO:-0500
TZNAME:EST
DTSTART:20241103T060000
END:STANDARD
BEGIN:DAYLIGHT
TZOFFSETFROM:-0500
TZOFFSETTO:-0400
TZNAME:EDT
DTSTART:20250309T070000
END:DAYLIGHT
BEGIN:STANDARD
TZOFFSETFROM:-0400
TZOFFSETTO:-0500
TZNAME:EST
DTSTART:20251102T060000
END:STANDARD
END:VTIMEZONE
BEGIN:VEVENT
DTSTART;TZID=America/New_York:20240307T173000
DTEND;TZID=America/New_York:20240307T203000
DTSTAMP:20260422T052822
CREATED:20231205T215141Z
LAST-MODIFIED:20240306T155141Z
UID:1634-1709832600-1709843400@www.seasafarissailingschool.com
SUMMARY:ASA 105 COASTAL NAVIGATION | MARCH - APRIL | MADISON\, WI
DESCRIPTION:This course teaches navigational skills required to safely navigate a sailing vessel in coastal or inland waters. This is a perfect course to better understand coastal navigation and how you interact with the world around you. Beyond your GPS\, you’ll learn skills to safely navigate waters that include tidal and current changes. In this course you will learn chart reading\, maritime publications\, navigation equipment\, tide and current tables\, plotting position\, bearings\, running fixes\, set and drift\, navigation lights\, day shapes\, buoyage systems\, current and leeway and much more. \n  \nFormat: Hybrid Instructor Led Training via ZOOM – followed by 2 days In Person at Hoofer Sailing Club – UW Madison. This course is offered as a 5 remote 3 hour sessions\, followed by a Saturday\, and Sunday\, 8 hours each day. \nThursday\, March 7 – 5:30-8:30pm (virtual instructor via Zoom)\nThursday\, March 14 – 5:30-8:30pm (virtual instructor via Zoom)\nThursday\, March 21 – 5:30-8:30pm (virtual instructor via Zoom)\nThursday\, March 28 – 5:30-8:30pm (virtual instructor via Zoom)\nThursday\, April 4 – 5:30-8:30pm (virtual instructor via Zoom)\nSaturday\, April 6 – Times TBD (in-person at Hoofer Sailing Club)\nSunday\, April 7 – Times TBD (in-person at Hoofer Sailing Club) – Review & Exam
URL:https://www.seasafarissailingschool.com/class/asa-105-coastal-navigation-march-april-madison-wi/
LOCATION:ONLINE – Virtual Instructor\, ZOOM\, United States
CATEGORIES:Beginner
ATTACH;FMTTYPE=image/jpeg:https://www.seasafarissailingschool.com/wp-content/uploads/2021/03/asa-105.jpg
END:VEVENT
END:VCALENDAR